BEGIN:VCALENDAR
VERSION:2.0
PRODID:spatie/icalendar-generator
NAME:Cérémonie d’ouverture: le monde et le secteur de la construction e
 n 2050 [Swissbau 2024]
X-WR-CALNAME:Cérémonie d’ouverture: le monde et le secteur de la constr
 uction en 2050 [Swissbau 2024]
BEGIN:VTIMEZONE
TZID:Europe/Zurich
BEGIN:STANDARD
DTSTART:20231029T030000
TZOFFSETFROM:+0200
TZOFFSETTO:+0100
END:STANDARD
BEGIN:DAYLIGHT
DTSTART:20240331T020000
TZOFFSETFROM:+0100
TZOFFSETTO:+0200
END:DAYLIGHT
END:VTIMEZONE
BEGIN:VTIMEZONE
TZID:UTC
BEGIN:STANDARD
DTSTART:20250726T165306
TZOFFSETFROM:+0000
TZOFFSETTO:+0000
END:STANDARD
END:VTIMEZONE
BEGIN:VEVENT
UID:69e8fcf246a76
DTSTAMP:20260422T165306Z
DTSTART;TZID=Europe/Zurich:20240116T101500
DTEND;TZID=Europe/Zurich:20240116T113000
SUMMARY:Cérémonie d’ouverture: le monde et le secteur de la constructio
 n en 2050 [Swissbau 2024]
DESCRIPTION:https://www.swissbau.ch/fr/e/ceremonie-d-ouverture-le-monde-et-
 le-secteur-de-la-construction-en-2050.38379\n\nLe secteur de la constructi
 on et de l’immobilier doit fournir des réponses aux défis actuels comm
 e la pénurie de personnel spécialisé\, la numérisation ou l’économi
 e circulaire: quelles tendances façonneront l’avenir et comment pouvons
 -nous déclencher ensemble des impulsions créatives?
LOCATION:Arena / Swissbau Focus / Halle 1.0
END:VEVENT
END:VCALENDAR