BEGIN:VCALENDAR
VERSION:2.0
PRODID:spatie/icalendar-generator
NAME:Neue Ideen für die datenbasierte Zusammenarbeit der Zukunft [Swissbau
  2024]
X-WR-CALNAME:Neue Ideen für die datenbasierte Zusammenarbeit der Zukunft [
 Swissbau 2024]
BEGIN:VTIMEZONE
TZID:Europe/Zurich
BEGIN:STANDARD
DTSTART:20231029T030000
TZOFFSETFROM:+0200
TZOFFSETTO:+0100
END:STANDARD
BEGIN:DAYLIGHT
DTSTART:20240331T020000
TZOFFSETFROM:+0100
TZOFFSETTO:+0200
END:DAYLIGHT
END:VTIMEZONE
BEGIN:VTIMEZONE
TZID:UTC
BEGIN:STANDARD
DTSTART:20250724T034518
TZOFFSETFROM:+0000
TZOFFSETTO:+0000
END:STANDARD
END:VTIMEZONE
BEGIN:VEVENT
UID:69e5a14ee17dd
DTSTAMP:20260420T034518Z
DTSTART;TZID=Europe/Zurich:20240116T123000
DTEND;TZID=Europe/Zurich:20240116T133000
SUMMARY:Neue Ideen für die datenbasierte Zusammenarbeit der Zukunft [Swiss
 bau 2024]
DESCRIPTION:https://www.swissbau.ch/de/e/neue-ideen-fuer-die-datenbasierte-
 zusammenarbeit-der-zukunft.40353\n\nMit der digitalen Transformation der B
 au- und Immobilienbranche nehmen die Daten und die Komplexität der Prozes
 se rasant zu. Um die Mehrwerte der Digitalisierung in der Praxis einzulös
 en\, sind neue Strukturen und Bauprozesse gefragt. Die Ideen werden im hoc
 hkarätigen Experten-Panel live diskutiert.
LOCATION:Collaboration Stage / Swissbau Lab / Halle 1.1
END:VEVENT
END:VCALENDAR